BEGIN:VCALENDAR
VERSION:2.0
PRODID:-//Plone.org//NONSGML plone.app.event//EN
X-WR-TIMEZONE:Europe/Madrid
BEGIN:VEVENT
SUMMARY:3a edició de les 12 hores de petanca Vila de Canet categoria femenina
DTSTART;TZID=Europe/Madrid;VALUE=DATE-TIME:20130629T083000
DTEND;TZID=Europe/Madrid;VALUE=DATE-TIME:20130629T093000
DTSTAMP;VALUE=DATE-TIME:20260423T035003Z
UID:d2db95e1df59daa920b568f4c4d79015
CREATED;VALUE=DATE-TIME:20130629T000000Z
CATEGORIES:Esports
ORGANIZER:aa.vv. maresme y club petanca aa.vv.maresme
COMMENT:Durada: 08.30 fins a les  20.30 hores
URL:https://www.canetdemar.cat/document.php?id=10605
END:VEVENT
END:VCALENDAR