BEGIN:VCALENDAR
VERSION:2.0
PRODID:-//Plone.org//NONSGML plone.app.event//EN
X-WR-TIMEZONE:Europe/Madrid
BEGIN:VEVENT
SUMMARY:Exposició de Reina Álvarez
DTSTART;TZID=Europe/Madrid;VALUE=DATE-TIME:20040802T000000
DTEND;TZID=Europe/Madrid;VALUE=DATE-TIME:20040802T010000
DTSTAMP;VALUE=DATE-TIME:20260422T054244Z
UID:1fd2e9b53470a8d3a7ab4675e61f365f
CREATED;VALUE=DATE-TIME:20040802T000000Z
URL:https://www.canetdemar.cat/document.php?id=1060
END:VEVENT
END:VCALENDAR