BEGIN:VCALENDAR
VERSION:2.0
PRODID:-//Plone.org//NONSGML plone.app.event//EN
X-WR-TIMEZONE:Europe/Madrid
BEGIN:VEVENT
SUMMARY:Postals de Canet
DTSTART;TZID=Europe/Madrid;VALUE=DATE-TIME:20021124T190000
DTEND;TZID=Europe/Madrid;VALUE=DATE-TIME:20021124T200000
DTSTAMP;VALUE=DATE-TIME:20260423T051052Z
UID:0c294998e0e3d204e0159a71bf7f35fb
CREATED;VALUE=DATE-TIME:20021124T000000Z
URL:https://www.canetdemar.cat/document.php?id=106
END:VEVENT
END:VCALENDAR