BEGIN:VCALENDAR
VERSION:2.0
PRODID:-//Plone.org//NONSGML plone.app.event//EN
X-WR-TIMEZONE:Europe/Madrid
BEGIN:VEVENT
SUMMARY:Gala Solidària de Màgia
DTSTART;TZID=Europe/Madrid;VALUE=DATE-TIME:20130714T120000
DTEND;TZID=Europe/Madrid;VALUE=DATE-TIME:20130714T130000
DTSTAMP;VALUE=DATE-TIME:20260422T092548Z
UID:231d2bf636ed4c141ce4a82a481c80f7
CREATED;VALUE=DATE-TIME:20130714T000000Z
LOCATION:Envelat Vil·la Flora
ORGANIZER:Projecte Màgia pel Sàhara
DESCRIPTION:Festa Major 2013
URL:https://www.canetdemar.cat/document.php?id=10591
END:VEVENT
END:VCALENDAR