BEGIN:VCALENDAR
VERSION:2.0
PRODID:-//Plone.org//NONSGML plone.app.event//EN
X-WR-TIMEZONE:Europe/Madrid
BEGIN:VEVENT
SUMMARY:Exposició de Natàlia Ruiz
DTSTART;TZID=Europe/Madrid;VALUE=DATE-TIME:20040808T000000
DTEND;TZID=Europe/Madrid;VALUE=DATE-TIME:20040808T010000
DTSTAMP;VALUE=DATE-TIME:20260423T071113Z
UID:8f3eb6d002a85afeb4ba7c5b419f075d
CREATED;VALUE=DATE-TIME:20040808T000000Z
URL:https://www.canetdemar.cat/document.php?id=1059
END:VEVENT
END:VCALENDAR