BEGIN:VCALENDAR
VERSION:2.0
PRODID:-//Plone.org//NONSGML plone.app.event//EN
X-WR-TIMEZONE:Europe/Madrid
BEGIN:VEVENT
SUMMARY:II Torneig de Vòlei Platja 4x4 Canet
DTSTART;TZID=Europe/Madrid;VALUE=DATE-TIME:20130707T100000
DTEND;TZID=Europe/Madrid;VALUE=DATE-TIME:20130707T110000
DTSTAMP;VALUE=DATE-TIME:20260424T023019Z
UID:af3ecabf3726163652d67f0279838e13
CREATED;VALUE=DATE-TIME:20130707T000000Z
LOCATION:a la platja, davant de l'estació de RENFE
ORGANIZER:TriEsport Canet amb la col·laboració de la secció de Canet de Mar de la Plataforma per la Llengua Maresme
COMMENT:Preu: 10&euro; per persona fins el 2 de juliol, després 12&euro;/persona
DESCRIPTION:Festa Major 2013
URL:https://www.canetdemar.cat/document.php?id=10587
END:VEVENT
END:VCALENDAR