BEGIN:VCALENDAR
VERSION:2.0
PRODID:-//Plone.org//NONSGML plone.app.event//EN
X-WR-TIMEZONE:Europe/Madrid
BEGIN:VEVENT
SUMMARY:K80net II Festival
DTSTART;TZID=Europe/Madrid;VALUE=DATE-TIME:20130706T230000
DTEND;TZID=Europe/Madrid;VALUE=DATE-TIME:20130707T000000
DTSTAMP;VALUE=DATE-TIME:20260424T040902Z
UID:5fe7b46ce4537c88f2a15a1e647d2366
CREATED;VALUE=DATE-TIME:20130706T000000Z
LOCATION:passeig Marítim (zona riera de la Torre)
ORGANIZER:Àrea de Festes
URL:https://www.canetdemar.cat/document.php?id=10586
END:VEVENT
END:VCALENDAR