BEGIN:VCALENDAR
VERSION:2.0
PRODID:-//Plone.org//NONSGML plone.app.event//EN
X-WR-TIMEZONE:Europe/Madrid
BEGIN:VEVENT
SUMMARY:Ofici de Sant Pere, aviada de coloms i vermut popular
DTSTART;TZID=Europe/Madrid;VALUE=DATE-TIME:20130629T110000
DTEND;TZID=Europe/Madrid;VALUE=DATE-TIME:20130629T120000
DTSTAMP;VALUE=DATE-TIME:20260424T041253Z
UID:c4a2361bd7fd01d0901ecb32ecf89637
CREATED;VALUE=DATE-TIME:20130629T000000Z
URL:https://www.canetdemar.cat/document.php?id=10565
END:VEVENT
END:VCALENDAR