BEGIN:VCALENDAR
VERSION:2.0
PRODID:-//Plone.org//NONSGML plone.app.event//EN
X-WR-TIMEZONE:Europe/Madrid
BEGIN:VEVENT
SUMMARY:Torneig infantil-juvenil d'escacs
DTSTART;TZID=Europe/Madrid;VALUE=DATE-TIME:20130629T110000
DTEND;TZID=Europe/Madrid;VALUE=DATE-TIME:20130629T120000
DTSTAMP;VALUE=DATE-TIME:20260422T232011Z
UID:aed7e5818c4be778dd8b7b3c539a46ad
CREATED;VALUE=DATE-TIME:20130629T000000Z
LOCATION:Centre Parroquial
ORGANIZER:Club d'Escacs Canet
URL:https://www.canetdemar.cat/document.php?id=10563
END:VEVENT
END:VCALENDAR