BEGIN:VCALENDAR
VERSION:2.0
PRODID:-//Plone.org//NONSGML plone.app.event//EN
X-WR-TIMEZONE:Europe/Madrid
BEGIN:VEVENT
SUMMARY:Torneig de Sant Pere de botxes
DTSTART;TZID=Europe/Madrid;VALUE=DATE-TIME:20130629T090000
DTEND;TZID=Europe/Madrid;VALUE=DATE-TIME:20130629T100000
DTSTAMP;VALUE=DATE-TIME:20260425T124254Z
UID:2a00ab29bebc1e9c8d69a9a70ae6b8ff
CREATED;VALUE=DATE-TIME:20130629T000000Z
LOCATION:Club Botxes Canet M.M.
ORGANIZER:Club botxes Canet M.M.
URL:https://www.canetdemar.cat/document.php?id=10562
END:VEVENT
END:VCALENDAR