BEGIN:VCALENDAR
VERSION:2.0
PRODID:-//Plone.org//NONSGML plone.app.event//EN
X-WR-TIMEZONE:Europe/Madrid
BEGIN:VEVENT
SUMMARY:Pregó de Festa Major
DTSTART;TZID=Europe/Madrid;VALUE=DATE-TIME:20130627T210000
DTEND;TZID=Europe/Madrid;VALUE=DATE-TIME:20130627T220000
DTSTAMP;VALUE=DATE-TIME:20260423T190835Z
UID:a437506d709fd8f01b08f17934cdb5ec
CREATED;VALUE=DATE-TIME:20130627T000000Z
LOCATION:carrer Ample
ORGANIZER:Comissió de Festes
DESCRIPTION:A càrrec de Xavier Dotras
URL:https://www.canetdemar.cat/document.php?id=10556
END:VEVENT
END:VCALENDAR