BEGIN:VCALENDAR
VERSION:2.0
PRODID:-//Plone.org//NONSGML plone.app.event//EN
X-WR-TIMEZONE:Europe/Madrid
BEGIN:VEVENT
SUMMARY:Contes a la fresca: Capdepardals
DTSTART;TZID=Europe/Madrid;VALUE=DATE-TIME:20130725T190000
DTEND;TZID=Europe/Madrid;VALUE=DATE-TIME:20130725T200000
DTSTAMP;VALUE=DATE-TIME:20260423T053838Z
UID:ab183bd1659132d0a398df2afebe05c6
CREATED;VALUE=DATE-TIME:20130725T000000Z
CATEGORIES:Infantils
LOCATION:Biblioteca
URL:https://www.canetdemar.cat/document.php?id=10528
END:VEVENT
END:VCALENDAR