BEGIN:VCALENDAR
VERSION:2.0
PRODID:-//Plone.org//NONSGML plone.app.event//EN
X-WR-TIMEZONE:Europe/Madrid
BEGIN:VEVENT
SUMMARY:Exposició: Nines i ornaments de Nadal. Suspesa
DTSTART;TZID=Europe/Madrid;VALUE=DATE-TIME:20131201T000000
DTEND;TZID=Europe/Madrid;VALUE=DATE-TIME:20131201T010000
DTSTAMP;VALUE=DATE-TIME:20260424T101344Z
UID:05e3a257b251e6b417d94a6bec70d2e8
CREATED;VALUE=DATE-TIME:20131201T000000Z
LOCATION:Sala Cultural Ramon de Capmany
COMMENT:Durada: de l'1 al 15 de desembre
URL:https://www.canetdemar.cat/document.php?id=10496
END:VEVENT
END:VCALENDAR