BEGIN:VCALENDAR
VERSION:2.0
PRODID:-//Plone.org//NONSGML plone.app.event//EN
X-WR-TIMEZONE:Europe/Madrid
BEGIN:VEVENT
SUMMARY:Exposició: Processos, de Salvador Castellà
DTSTART;TZID=Europe/Madrid;VALUE=DATE-TIME:20130803T183000
DTEND;TZID=Europe/Madrid;VALUE=DATE-TIME:20130803T193000
DTSTAMP;VALUE=DATE-TIME:20260424T203944Z
UID:078d6a988e11516d93c8df1ad51f57b7
CREATED;VALUE=DATE-TIME:20130803T000000Z
LOCATION:Sala Cultural Ramon de Capmany
COMMENT:Durada: del 3 al 18 d'agost
URL:https://www.canetdemar.cat/document.php?id=10492
END:VEVENT
END:VCALENDAR