BEGIN:VCALENDAR
VERSION:2.0
PRODID:-//Plone.org//NONSGML plone.app.event//EN
X-WR-TIMEZONE:Europe/Madrid
BEGIN:VEVENT
SUMMARY:Anem al Teatre: Barcelona
DTSTART;TZID=Europe/Madrid;VALUE=DATE-TIME:20130619T183000
DTEND;TZID=Europe/Madrid;VALUE=DATE-TIME:20130619T193000
DTSTAMP;VALUE=DATE-TIME:20260424T193610Z
UID:609d7fad240b2c7391a87c7b002b7e51
CREATED;VALUE=DATE-TIME:20130619T000000Z
LOCATION:Parada bus Comediants
ORGANIZER:Àrea de Cultura
COMMENT:Preu: 32 euros
URL:https://www.canetdemar.cat/document.php?id=10451
END:VEVENT
END:VCALENDAR