BEGIN:VCALENDAR
VERSION:2.0
PRODID:-//Plone.org//NONSGML plone.app.event//EN
X-WR-TIMEZONE:Europe/Madrid
BEGIN:VEVENT
SUMMARY:Presentació dels llibres: 5 cm (la cicatriu) i La casa de la compassió
DTSTART;TZID=Europe/Madrid;VALUE=DATE-TIME:20130524T190000
DTEND;TZID=Europe/Madrid;VALUE=DATE-TIME:20130524T200000
DTSTAMP;VALUE=DATE-TIME:20260424T084204Z
UID:549a1f681ec213ab9e45a64152372a90
CREATED;VALUE=DATE-TIME:20130524T000000Z
CATEGORIES:Literatura
LOCATION:Biblioteca
URL:https://www.canetdemar.cat/document.php?id=10450
END:VEVENT
END:VCALENDAR