BEGIN:VCALENDAR
VERSION:2.0
PRODID:-//Plone.org//NONSGML plone.app.event//EN
X-WR-TIMEZONE:Europe/Madrid
BEGIN:VEVENT
SUMMARY:Espectacle BatuMaresme
DTSTART;TZID=Europe/Madrid;VALUE=DATE-TIME:20130601T210000
DTEND;TZID=Europe/Madrid;VALUE=DATE-TIME:20130601T220000
DTSTAMP;VALUE=DATE-TIME:20260422T112259Z
UID:f00680a27a7f2d0d452fb32a945b9e15
CREATED;VALUE=DATE-TIME:20130601T000000Z
LOCATION:plaça Colomer
ORGANIZER:Associació Cultural Plataforma Odèon - ACPO
URL:https://www.canetdemar.cat/document.php?id=10416
END:VEVENT
END:VCALENDAR