BEGIN:VCALENDAR
VERSION:2.0
PRODID:-//Plone.org//NONSGML plone.app.event//EN
X-WR-TIMEZONE:Europe/Madrid
BEGIN:VEVENT
SUMMARY:Percussionistes del Soroll.som
DTSTART;TZID=Europe/Madrid;VALUE=DATE-TIME:20130601T184500
DTEND;TZID=Europe/Madrid;VALUE=DATE-TIME:20130601T194500
DTSTAMP;VALUE=DATE-TIME:20260424T220037Z
UID:247e1d7318552728c6902f330d1b1670
CREATED;VALUE=DATE-TIME:20130601T000000Z
LOCATION:carrer Ample
ORGANIZER:Associació Cultural Plataforma Odèon - ACPO
DESCRIPTION:Dintre dels actes del Re-percussió per l'Odèon
URL:https://www.canetdemar.cat/document.php?id=10414
END:VEVENT
END:VCALENDAR