BEGIN:VCALENDAR
VERSION:2.0
PRODID:-//Plone.org//NONSGML plone.app.event//EN
X-WR-TIMEZONE:Europe/Madrid
BEGIN:VEVENT
SUMMARY:Teatre: Escorxador
DTSTART;TZID=Europe/Madrid;VALUE=DATE-TIME:20130511T213000
DTEND;TZID=Europe/Madrid;VALUE=DATE-TIME:20130511T223000
DTSTAMP;VALUE=DATE-TIME:20260422T145036Z
UID:b73cf688b4ae6e583ef8e8dddcb50ec8
CREATED;VALUE=DATE-TIME:20130511T000000Z
LOCATION:Envelat de Vil·la Flora
ORGANIZER:Lamina Teatre
URL:https://www.canetdemar.cat/document.php?id=10392
END:VEVENT
END:VCALENDAR