BEGIN:VCALENDAR
VERSION:2.0
PRODID:-//Plone.org//NONSGML plone.app.event//EN
X-WR-TIMEZONE:Europe/Madrid
BEGIN:VEVENT
SUMMARY:Viatge a Puigcerdà i sud de França
DTSTART;TZID=Europe/Madrid;VALUE=DATE-TIME:20130529T000000
DTEND;TZID=Europe/Madrid;VALUE=DATE-TIME:20130529T010000
DTSTAMP;VALUE=DATE-TIME:20260424T171411Z
UID:52a51e62c9c6b215d344f71a3d1f4199
CREATED;VALUE=DATE-TIME:20130529T000000Z
ORGANIZER:Esplai Gent 3.0
URL:https://www.canetdemar.cat/document.php?id=10390
END:VEVENT
END:VCALENDAR