BEGIN:VCALENDAR
VERSION:2.0
PRODID:-//Plone.org//NONSGML plone.app.event//EN
X-WR-TIMEZONE:Europe/Madrid
BEGIN:VEVENT
SUMMARY:Viatge a Andalucia
DTSTART;TZID=Europe/Madrid;VALUE=DATE-TIME:20130506T000000
DTEND;TZID=Europe/Madrid;VALUE=DATE-TIME:20130506T010000
DTSTAMP;VALUE=DATE-TIME:20260424T203548Z
UID:3060c0401b64bb2185afcb0c8fcf7625
CREATED;VALUE=DATE-TIME:20130506T000000Z
LOCATION:Esplai Gent 3.0, carrer Vall 24
ORGANIZER:Esplai Gent 3.0
COMMENT:Durada: 6, 7, 8 i 9 de maig
URL:https://www.canetdemar.cat/document.php?id=10389
END:VEVENT
END:VCALENDAR