BEGIN:VCALENDAR
VERSION:2.0
PRODID:-//Plone.org//NONSGML plone.app.event//EN
X-WR-TIMEZONE:Europe/Madrid
BEGIN:VEVENT
SUMMARY:Celebració dels 150 anys de la fundació de l'escola Santa Rosa de Lima
DTSTART;TZID=Europe/Madrid;VALUE=DATE-TIME:20130519T120000
DTEND;TZID=Europe/Madrid;VALUE=DATE-TIME:20130519T130000
DTSTAMP;VALUE=DATE-TIME:20260425T004219Z
UID:c7d174ed14a27c4128b9a984ca217e85
CREATED;VALUE=DATE-TIME:20130519T000000Z
ORGANIZER:Escola Santa Rosa de Lima
DESCRIPTION:Dia del Pare Coll
URL:https://www.canetdemar.cat/document.php?id=10367
END:VEVENT
END:VCALENDAR