BEGIN:VCALENDAR
VERSION:2.0
PRODID:-//Plone.org//NONSGML plone.app.event//EN
X-WR-TIMEZONE:Europe/Madrid
BEGIN:VEVENT
SUMMARY:Taller d´higiene alimentària (manipulador d´aliments)
DTSTART;TZID=Europe/Madrid;VALUE=DATE-TIME:20130429T090000
DTEND;TZID=Europe/Madrid;VALUE=DATE-TIME:20130429T100000
DTSTAMP;VALUE=DATE-TIME:20260426T001410Z
UID:cf22bf1d71c6f1318674a9941431607a
CREATED;VALUE=DATE-TIME:20130429T000000Z
ORGANIZER:Promoció Econòmica
COMMENT:Durada: 29 i 30 d´abril de 9.00 a 13.00 hores
DESCRIPTION:Inscripcions: 19 al 25 d´abril
URL:https://www.canetdemar.cat/document.php?id=10355
END:VEVENT
END:VCALENDAR