BEGIN:VCALENDAR
VERSION:2.0
PRODID:-//Plone.org//NONSGML plone.app.event//EN
X-WR-TIMEZONE:Europe/Madrid
BEGIN:VEVENT
SUMMARY:Anem al teatre: Llibertat!
DTSTART;TZID=Europe/Madrid;VALUE=DATE-TIME:20130529T183000
DTEND;TZID=Europe/Madrid;VALUE=DATE-TIME:20130529T193000
DTSTAMP;VALUE=DATE-TIME:20260424T170158Z
UID:61c1c187bebcc011980d25bbbd7597fb
CREATED;VALUE=DATE-TIME:20130529T000000Z
LOCATION:parada bus Comediants
ORGANIZER:Àrea de Cultura
COMMENT:Preu: autocar i entrada: 31 euros
URL:https://www.canetdemar.cat/document.php?id=10336
END:VEVENT
END:VCALENDAR