BEGIN:VCALENDAR
VERSION:2.0
PRODID:-//Plone.org//NONSGML plone.app.event//EN
X-WR-TIMEZONE:Europe/Madrid
BEGIN:VEVENT
SUMMARY:L'estiesport del Col·legi Yglesias - Summer Camp
DTSTART;TZID=Europe/Madrid;VALUE=DATE-TIME:20130701T000000
DTEND;TZID=Europe/Madrid;VALUE=DATE-TIME:20130701T010000
DTSTAMP;VALUE=DATE-TIME:20260421T155523Z
UID:d7c7f9526ee0373bea4b00f4a9e64e8c
CREATED;VALUE=DATE-TIME:20130701T000000Z
ORGANIZER:Col·legi Yglesias
DESCRIPTION:Inscripcions del 18 de març al 24 de maig
URL:https://www.canetdemar.cat/document.php?id=10320
END:VEVENT
END:VCALENDAR