BEGIN:VCALENDAR
VERSION:2.0
PRODID:-//Plone.org//NONSGML plone.app.event//EN
X-WR-TIMEZONE:Europe/Madrid
BEGIN:VEVENT
SUMMARY:Excursió a la Vall de Muga i dinar de Cargolada
DTSTART;TZID=Europe/Madrid;VALUE=DATE-TIME:20130417T080000
DTEND;TZID=Europe/Madrid;VALUE=DATE-TIME:20130417T090000
DTSTAMP;VALUE=DATE-TIME:20260424T023843Z
UID:f1d817115fd354049d442ff182a77820
CREATED;VALUE=DATE-TIME:20130417T000000Z
ORGANIZER:Esplai Gent 3.0
URL:https://www.canetdemar.cat/document.php?id=10311
END:VEVENT
END:VCALENDAR