BEGIN:VCALENDAR
VERSION:2.0
PRODID:-//Plone.org//NONSGML plone.app.event//EN
X-WR-TIMEZONE:Europe/Madrid
BEGIN:VEVENT
SUMMARY:Ball a l'esplai
DTSTART;TZID=Europe/Madrid;VALUE=DATE-TIME:20130407T180000
DTEND;TZID=Europe/Madrid;VALUE=DATE-TIME:20130407T190000
DTSTAMP;VALUE=DATE-TIME:20260423T235035Z
UID:c1b4bc702d7fda28f11f0778c1302a0b
CREATED;VALUE=DATE-TIME:20130407T000000Z
LOCATION:Esplai Gent 3.0, Vall 24
ORGANIZER:Esplai Gent 3.0
URL:https://www.canetdemar.cat/document.php?id=10308
END:VEVENT
END:VCALENDAR