BEGIN:VCALENDAR
VERSION:2.0
PRODID:-//Plone.org//NONSGML plone.app.event//EN
X-WR-TIMEZONE:Europe/Madrid
BEGIN:VEVENT
SUMMARY:Berenar, Mona i ball a l'Esplai
DTSTART;TZID=Europe/Madrid;VALUE=DATE-TIME:20130401T180000
DTEND;TZID=Europe/Madrid;VALUE=DATE-TIME:20130401T190000
DTSTAMP;VALUE=DATE-TIME:20260423T120023Z
UID:01070dd9444697d9aa7a716fabe12f37
CREATED;VALUE=DATE-TIME:20130401T000000Z
LOCATION:Esplai de la gent 3.0, Vall 24
ORGANIZER:Esplai de la gent 3.0
URL:https://www.canetdemar.cat/document.php?id=10306
END:VEVENT
END:VCALENDAR