BEGIN:VCALENDAR
VERSION:2.0
PRODID:-//Plone.org//NONSGML plone.app.event//EN
X-WR-TIMEZONE:Europe/Madrid
BEGIN:VEVENT
SUMMARY:III Mostra de Jazz al Càmping El Globo Rojo
DTSTART;TZID=Europe/Madrid;VALUE=DATE-TIME:20040722T220000
DTEND;TZID=Europe/Madrid;VALUE=DATE-TIME:20040722T230000
DTSTAMP;VALUE=DATE-TIME:20260422T144925Z
UID:924f8041a21f8ce0c0bc18debfff3552
CREATED;VALUE=DATE-TIME:20040722T000000Z
URL:https://www.canetdemar.cat/document.php?id=1026
END:VEVENT
END:VCALENDAR