BEGIN:VCALENDAR
VERSION:2.0
PRODID:-//Plone.org//NONSGML plone.app.event//EN
X-WR-TIMEZONE:Europe/Madrid
BEGIN:VEVENT
SUMMARY:Concert en benefici d'Els Garrofers
DTSTART;TZID=Europe/Madrid;VALUE=DATE-TIME:20130706T180000
DTEND;TZID=Europe/Madrid;VALUE=DATE-TIME:20130706T190000
DTSTAMP;VALUE=DATE-TIME:20260424T024335Z
UID:b7673daea6b93abae0519e0c0795ba45
CREATED;VALUE=DATE-TIME:20130706T000000Z
LOCATION:Restaurant Casa Roura - riera Sant Domènec 1
ORGANIZER:Fundació Els Garrofers
URL:https://www.canetdemar.cat/document.php?id=10244
END:VEVENT
END:VCALENDAR