BEGIN:VCALENDAR
VERSION:2.0
PRODID:-//Plone.org//NONSGML plone.app.event//EN
X-WR-TIMEZONE:Europe/Madrid
BEGIN:VEVENT
SUMMARY:Passejada matinal de descoberta de l´entorn: Passejada per la carena del Montnegre
DTSTART;TZID=Europe/Madrid;VALUE=DATE-TIME:20130317T093000
DTEND;TZID=Europe/Madrid;VALUE=DATE-TIME:20130317T103000
DTSTAMP;VALUE=DATE-TIME:20260423T115529Z
UID:2491c8b7e4bded525cb96ec3785f0618
CREATED;VALUE=DATE-TIME:20130317T000000Z
LOCATION:plaça 11 de Setembre
ORGANIZER:Fot-li castanya - ACPO
URL:https://www.canetdemar.cat/document.php?id=10243
END:VEVENT
END:VCALENDAR