BEGIN:VCALENDAR
VERSION:2.0
PRODID:-//Plone.org//NONSGML plone.app.event//EN
X-WR-TIMEZONE:Europe/Madrid
BEGIN:VEVENT
SUMMARY:Ball a l'Esplai
DTSTART;TZID=Europe/Madrid;VALUE=DATE-TIME:20130303T180000
DTEND;TZID=Europe/Madrid;VALUE=DATE-TIME:20130303T190000
DTSTAMP;VALUE=DATE-TIME:20260424T132603Z
UID:ec7c73876dc91561cbc2565096522a6e
CREATED;VALUE=DATE-TIME:20130303T000000Z
LOCATION:Esplai Gent 3.0, carrer Vall 24
ORGANIZER:Esplai Gent 3.0
URL:https://www.canetdemar.cat/document.php?id=10218
END:VEVENT
END:VCALENDAR