BEGIN:VCALENDAR
VERSION:2.0
PRODID:-//Plone.org//NONSGML plone.app.event//EN
X-WR-TIMEZONE:Europe/Madrid
BEGIN:VEVENT
SUMMARY:Hora del conte: Conte d'avui i de sempre amb la Fina Gelpí
DTSTART;TZID=Europe/Madrid;VALUE=DATE-TIME:20130427T120000
DTEND;TZID=Europe/Madrid;VALUE=DATE-TIME:20130427T130000
DTSTAMP;VALUE=DATE-TIME:20260422T034632Z
UID:b0d64a4e89c2d794025bff02a33abebd
CREATED;VALUE=DATE-TIME:20130427T000000Z
CATEGORIES:Infantils
LOCATION:Biblioteca
URL:https://www.canetdemar.cat/document.php?id=10207
END:VEVENT
END:VCALENDAR