BEGIN:VCALENDAR
VERSION:2.0
PRODID:-//Plone.org//NONSGML plone.app.event//EN
X-WR-TIMEZONE:Europe/Madrid
BEGIN:VEVENT
SUMMARY:Club de Lectura
DTSTART;TZID=Europe/Madrid;VALUE=DATE-TIME:20130419T190000
DTEND;TZID=Europe/Madrid;VALUE=DATE-TIME:20130419T200000
DTSTAMP;VALUE=DATE-TIME:20260423T151902Z
UID:69c8aab6a78c0f51f0d0a432740c5f39
CREATED;VALUE=DATE-TIME:20130419T000000Z
CATEGORIES:Literatura
LOCATION:Biblioteca
URL:https://www.canetdemar.cat/document.php?id=10205
END:VEVENT
END:VCALENDAR