BEGIN:VCALENDAR
VERSION:2.0
PRODID:-//Plone.org//NONSGML plone.app.event//EN
X-WR-TIMEZONE:Europe/Madrid
BEGIN:VEVENT
SUMMARY:Diumenges de ball
DTSTART;TZID=Europe/Madrid;VALUE=DATE-TIME:20130303T190000
DTEND;TZID=Europe/Madrid;VALUE=DATE-TIME:20130303T200000
DTSTAMP;VALUE=DATE-TIME:20260423T083326Z
UID:8bffdd2c14c08cd72a0b6b141b021121
CREATED;VALUE=DATE-TIME:20130303T000000Z
LOCATION:Envelat de Vil·la Flora
ORGANIZER:Amics de ball
URL:https://www.canetdemar.cat/document.php?id=10187
END:VEVENT
END:VCALENDAR