BEGIN:VCALENDAR
VERSION:2.0
PRODID:-//Plone.org//NONSGML plone.app.event//EN
X-WR-TIMEZONE:Europe/Madrid
BEGIN:VEVENT
SUMMARY:Jornada de portes obertes
DTSTART;TZID=Europe/Madrid;VALUE=DATE-TIME:20130224T110000
DTEND;TZID=Europe/Madrid;VALUE=DATE-TIME:20130224T120000
DTSTAMP;VALUE=DATE-TIME:20260422T092645Z
UID:4030d9c036e7e721ff8f00280e427f82
CREATED;VALUE=DATE-TIME:20130224T000000Z
LOCATION:Escola Turó del drac - ronda Ferrer de Canet s/n
URL:https://www.canetdemar.cat/document.php?id=10168
END:VEVENT
END:VCALENDAR