BEGIN:VCALENDAR
VERSION:2.0
PRODID:-//Plone.org//NONSGML plone.app.event//EN
X-WR-TIMEZONE:Europe/Madrid
BEGIN:VEVENT
SUMMARY:Aprèn a ballar sardanes...
DTSTART;TZID=Europe/Madrid;VALUE=DATE-TIME:20130216T110000
DTEND;TZID=Europe/Madrid;VALUE=DATE-TIME:20130216T120000
DTSTAMP;VALUE=DATE-TIME:20260421T155608Z
UID:27beb00210a7b1497c1734c3856c773e
CREATED;VALUE=DATE-TIME:20130216T000000Z
LOCATION:Masoveria de Vil·la Flora
COMMENT:Preu: Gratuït
Durada: Tots els dissabtes a partir del 16 de febrer
URL:https://www.canetdemar.cat/document.php?id=10159
END:VEVENT
END:VCALENDAR