BEGIN:VCALENDAR
VERSION:2.0
PRODID:-//Plone.org//NONSGML plone.app.event//EN
X-WR-TIMEZONE:Europe/Madrid
BEGIN:VEVENT
SUMMARY:Conferència: Palíndroms i anagrames catalans a càrrec de Jesús Lladó Parellada
DTSTART;TZID=Europe/Madrid;VALUE=DATE-TIME:20130601T120000
DTEND;TZID=Europe/Madrid;VALUE=DATE-TIME:20130601T130000
DTSTAMP;VALUE=DATE-TIME:20260425T192147Z
UID:a121104e449d8f0a34e9109da70d25b3
CREATED;VALUE=DATE-TIME:20130601T000000Z
CATEGORIES:Conferència
LOCATION:Aula Magna CRTTT - Escola de Teixits
ORGANIZER:Plataforma per la Llengua Canet de Mar - l'ONG del català
COMMENT:Preu: Gratuït
DESCRIPTION:Jocs lingüístics per gaudir amb la nostra llengua
URL:https://www.canetdemar.cat/document.php?id=10152
END:VEVENT
END:VCALENDAR