BEGIN:VCALENDAR
VERSION:2.0
PRODID:-//Plone.org//NONSGML plone.app.event//EN
X-WR-TIMEZONE:Europe/Madrid
BEGIN:VEVENT
SUMMARY:Pianissimo - Lang Lang. Vida i concerts del músic pianista Lang Lang
DTSTART;TZID=Europe/Madrid;VALUE=DATE-TIME:20130419T173000
DTEND;TZID=Europe/Madrid;VALUE=DATE-TIME:20130419T183000
DTSTAMP;VALUE=DATE-TIME:20260423T032749Z
UID:144d9bb706c92ebc78006a671e5a5d13
CREATED;VALUE=DATE-TIME:20130419T000000Z
CATEGORIES:Conferència
LOCATION:Aula Magna CRTTT - Escola de Teixits
ORGANIZER:Sàlvia, asociació de dones de Canet de Mar
COMMENT:Preu: Gratuït
URL:https://www.canetdemar.cat/document.php?id=10133
END:VEVENT
END:VCALENDAR