BEGIN:VCALENDAR
VERSION:2.0
PRODID:-//Plone.org//NONSGML plone.app.event//EN
X-WR-TIMEZONE:Europe/Madrid
BEGIN:VEVENT
SUMMARY:Documental del mes: El planeta dels cargols (Planet of Snail)
DTSTART;TZID=Europe/Madrid;VALUE=DATE-TIME:20130222T213000
DTEND;TZID=Europe/Madrid;VALUE=DATE-TIME:20130222T223000
DTSTAMP;VALUE=DATE-TIME:20260424T152212Z
UID:3328554717dceeb582c1858b1c44847d
CREATED;VALUE=DATE-TIME:20130222T000000Z
LOCATION:Centre Parroquial
ORGANIZER:Associació Cultural Plataforma Odèon
URL:https://www.canetdemar.cat/document.php?id=10120
END:VEVENT
END:VCALENDAR