BEGIN:VCALENDAR
VERSION:2.0
PRODID:-//Plone.org//NONSGML plone.app.event//EN
X-WR-TIMEZONE:Europe/Madrid
BEGIN:VEVENT
SUMMARY:Sessió informativa del POUM
DTSTART;TZID=Europe/Madrid;VALUE=DATE-TIME:20130215T190000
DTEND;TZID=Europe/Madrid;VALUE=DATE-TIME:20130215T200000
DTSTAMP;VALUE=DATE-TIME:20260423T140625Z
UID:2918b1e881448d16a190e0a9417398ab
CREATED;VALUE=DATE-TIME:20130215T000000Z
LOCATION:Aula Magna CRTTT - Escola de Teixits
URL:https://www.canetdemar.cat/document.php?id=10116
END:VEVENT
END:VCALENDAR