BEGIN:VCALENDAR
VERSION:2.0
PRODID:-//Plone.org//NONSGML plone.app.event//EN
X-WR-TIMEZONE:Europe/Madrid
BEGIN:VEVENT
SUMMARY:Ruta modernista. Centre històric i Casa museu
DTSTART;TZID=Europe/Madrid;VALUE=DATE-TIME:20130302T110000
DTEND;TZID=Europe/Madrid;VALUE=DATE-TIME:20130302T120000
DTSTAMP;VALUE=DATE-TIME:20260424T102541Z
UID:e8092b1bfd2f87d9af5aa7ff9f1618d6
CREATED;VALUE=DATE-TIME:20130302T000000Z
LOCATION:Casa museu
ORGANIZER:Casa museu Lluís Domènech i Montaner
COMMENT:Preu: 7 euros. Jubilats i estudiants, 6 euros. Menors de 12 anys gratuït
URL:https://www.canetdemar.cat/document.php?id=10112
END:VEVENT
END:VCALENDAR