BEGIN:VCALENDAR
VERSION:2.0
PRODID:-//Plone.org//NONSGML plone.app.event//EN
X-WR-TIMEZONE:Europe/Madrid
BEGIN:VEVENT
SUMMARY:Exposició a càrrec de Miquel Copons
DTSTART;TZID=Europe/Madrid;VALUE=DATE-TIME:20040712T000000
DTEND;TZID=Europe/Madrid;VALUE=DATE-TIME:20040712T010000
DTSTAMP;VALUE=DATE-TIME:20260424T053532Z
UID:9d36b47886bcb49720fe89ea22afa9a0
CREATED;VALUE=DATE-TIME:20040712T000000Z
URL:https://www.canetdemar.cat/document.php?id=1011
END:VEVENT
END:VCALENDAR