BEGIN:VCALENDAR
VERSION:2.0
PRODID:-//Plone.org//NONSGML plone.app.event//EN
X-WR-TIMEZONE:Europe/Madrid
BEGIN:VEVENT
SUMMARY:Ball a l'Envelat: Carnaval 2013
DTSTART;TZID=Europe/Madrid;VALUE=DATE-TIME:20130208T183000
DTEND;TZID=Europe/Madrid;VALUE=DATE-TIME:20130208T193000
DTSTAMP;VALUE=DATE-TIME:20260423T150519Z
UID:b25473bdc59325851bb70849bb2ea7f3
CREATED;VALUE=DATE-TIME:20130208T000000Z
LOCATION:Envelat de Vil·la Flora
ORGANIZER:Associació de Jubilats i Pensionistes de Canet de Mar
COMMENT:Preu: 3 euros
Durada: de 18.30 a 20.30 hores
URL:https://www.canetdemar.cat/document.php?id=10102
END:VEVENT
END:VCALENDAR