BEGIN:VCALENDAR
VERSION:2.0
PRODID:-//Plone.org//NONSGML plone.app.event//EN
X-WR-TIMEZONE:Europe/Madrid
BEGIN:VEVENT
SUMMARY:Presentació del llibre: Catalanes medievals d´Elisenda Albertí
DTSTART;TZID=Europe/Madrid;VALUE=DATE-TIME:20130426T190000
DTEND;TZID=Europe/Madrid;VALUE=DATE-TIME:20130426T200000
DTSTAMP;VALUE=DATE-TIME:20260423T032519Z
UID:82bdb0656828fee3a0db23854f2b05ae
CREATED;VALUE=DATE-TIME:20130426T000000Z
CATEGORIES:Literatura
LOCATION:Biblioteca P. Gual i Pujadas
ORGANIZER:Plataforma per la Llengua Canet de Mar - l´ONG del català i Sàlvia, Associació de dones de Canet de Mar
COMMENT:Preu: Gratuït
DESCRIPTION:Vint-i-quatre històries femenines de l´edat mitjana
URL:https://www.canetdemar.cat/document.php?id=10098
END:VEVENT
END:VCALENDAR