BEGIN:VCALENDAR
VERSION:2.0
PRODID:-//Plone.org//NONSGML plone.app.event//EN
X-WR-TIMEZONE:Europe/Madrid
BEGIN:VEVENT
SUMMARY:Conferència: La Quiropràctica
DTSTART;TZID=Europe/Madrid;VALUE=DATE-TIME:20130228T180000
DTEND;TZID=Europe/Madrid;VALUE=DATE-TIME:20130228T190000
DTSTAMP;VALUE=DATE-TIME:20260422T235639Z
UID:48fb0e2ef11dce8eb89014791fb59f21
CREATED;VALUE=DATE-TIME:20130228T000000Z
CATEGORIES:Conferència
LOCATION:Aula Magna CRTTT - Escola de Teixits
ORGANIZER:Sàlvia, Assocació de dones de Canet de Mar
COMMENT:Preu: Gratuït
URL:https://www.canetdemar.cat/document.php?id=10096
END:VEVENT
END:VCALENDAR