BEGIN:VCALENDAR
VERSION:2.0
PRODID:-//Plone.org//NONSGML plone.app.event//EN
X-WR-TIMEZONE:Europe/Madrid
BEGIN:VEVENT
SUMMARY:Xerrada: Una reflexió sobre les condicions de vida actual
DTSTART;TZID=Europe/Madrid;VALUE=DATE-TIME:20130208T190000
DTEND;TZID=Europe/Madrid;VALUE=DATE-TIME:20130208T200000
DTSTAMP;VALUE=DATE-TIME:20260424T115333Z
UID:8098a904c71effa6d5e3fe24cbca1723
CREATED;VALUE=DATE-TIME:20130208T000000Z
LOCATION:Sala Cultural Ramon de Capmany
ORGANIZER:Àrea de Cultura
URL:https://www.canetdemar.cat/document.php?id=10094
END:VEVENT
END:VCALENDAR