BEGIN:VCALENDAR
VERSION:2.0
PRODID:-//Plone.org//NONSGML plone.app.event//EN
X-WR-TIMEZONE:Europe/Madrid
BEGIN:VEVENT
SUMMARY:Ball a l'Esplai
DTSTART;TZID=Europe/Madrid;VALUE=DATE-TIME:20130224T180000
DTEND;TZID=Europe/Madrid;VALUE=DATE-TIME:20130224T190000
DTSTAMP;VALUE=DATE-TIME:20260425T204938Z
UID:28b39a61ac1386f03101399835d52e6d
CREATED;VALUE=DATE-TIME:20130224T000000Z
LOCATION:carrer Vall 24
ORGANIZER:esplai 3.0
URL:https://www.canetdemar.cat/document.php?id=10091
END:VEVENT
END:VCALENDAR