BEGIN:VCALENDAR
VERSION:2.0
PRODID:-//Plone.org//NONSGML plone.app.event//EN
X-WR-TIMEZONE:Europe/Madrid
BEGIN:VEVENT
SUMMARY:L'Enterro
DTSTART;TZID=Europe/Madrid;VALUE=DATE-TIME:20130213T194500
DTEND;TZID=Europe/Madrid;VALUE=DATE-TIME:20130213T204500
DTSTAMP;VALUE=DATE-TIME:20260423T032200Z
UID:4f64a3763dccf808c2f09855cba26db3
CREATED;VALUE=DATE-TIME:20130213T000000Z
LOCATION:plaça Mercat
URL:https://www.canetdemar.cat/document.php?id=10075
END:VEVENT
END:VCALENDAR