BEGIN:VCALENDAR
VERSION:2.0
PRODID:-//Plone.org//NONSGML plone.app.event//EN
X-WR-TIMEZONE:Europe/Madrid
BEGIN:VEVENT
SUMMARY:SERGI BUKA amb l'espectacle Magikissim
DTSTART;TZID=Europe/Madrid;VALUE=DATE-TIME:20020901T193000
DTEND;TZID=Europe/Madrid;VALUE=DATE-TIME:20020901T203000
DTSTAMP;VALUE=DATE-TIME:20260425T133346Z
UID:9e9d40b14208522702178f3a330a4796
CREATED;VALUE=DATE-TIME:20020901T000000Z
URL:https://www.canetdemar.cat/document.php?id=10
END:VEVENT
END:VCALENDAR